BEGIN:VCALENDAR
VERSION:2.0
PRODID:-//bAV Fabrik GmbH - ECPv6.15.20//NONSGML v1.0//EN
CALSCALE:GREGORIAN
METHOD:PUBLISH
X-WR-CALNAME:bAV Fabrik GmbH
X-ORIGINAL-URL:https://www.bav-fabrik-gmbh.de
X-WR-CALDESC:Veranstaltungen für bAV Fabrik GmbH
REFRESH-INTERVAL;VALUE=DURATION:PT1H
X-Robots-Tag:noindex
X-PUBLISHED-TTL:PT1H
BEGIN:VTIMEZONE
TZID:Europe/Berlin
BEGIN:DAYLIGHT
TZOFFSETFROM:+0100
TZOFFSETTO:+0200
TZNAME:CEST
DTSTART:20250330T010000
END:DAYLIGHT
BEGIN:STANDARD
TZOFFSETFROM:+0200
TZOFFSETTO:+0100
TZNAME:CET
DTSTART:20251026T010000
END:STANDARD
BEGIN:DAYLIGHT
TZOFFSETFROM:+0100
TZOFFSETTO:+0200
TZNAME:CEST
DTSTART:20260329T010000
END:DAYLIGHT
BEGIN:STANDARD
TZOFFSETFROM:+0200
TZOFFSETTO:+0100
TZNAME:CET
DTSTART:20261025T010000
END:STANDARD
BEGIN:DAYLIGHT
TZOFFSETFROM:+0100
TZOFFSETTO:+0200
TZNAME:CEST
DTSTART:20270328T010000
END:DAYLIGHT
BEGIN:STANDARD
TZOFFSETFROM:+0200
TZOFFSETTO:+0100
TZNAME:CET
DTSTART:20271031T010000
END:STANDARD
END:VTIMEZONE
BEGIN:VEVENT
DTSTART;TZID=Europe/Berlin:20260305T080000
DTEND;TZID=Europe/Berlin:20260305T150000
DTSTAMP:20260421T143618
CREATED:20260105T130407Z
LAST-MODIFIED:20260105T130407Z
UID:1083-1772697600-1772722800@www.bav-fabrik-gmbh.de
SUMMARY:Organisatorische und rechtliche Betrachtung von Mitarbeiterversorgungskonzepten (unter Berücksichtigung des zweiten Betriebsrentenstärkungsgesetzes ab 1.1.2026)
DESCRIPTION:Weitere Informationen \nZur Anmeldung
URL:https://www.bav-fabrik-gmbh.de/event/organisatorische-und-rechtliche-betrachtung-von-mitarbeiterversorgungskonzepten-unter-beruecksichtigung-des-zweiten-betriebsrentenstaerkungsgesetzes-ab-1-1-2026/
LOCATION:Bildungs- und Technologiezentrum Chemnitz\, Limbacher Straße 195\, Chemnitz\, 09116\, Germany
ATTACH;FMTTYPE=image/png:https://www.bav-fabrik-gmbh.de/wp-content/uploads/2026/01/hwk-chemnitz.png
ORGANIZER;CN="Handwerkskammer Chemnitz":MAILTO:info@hwk-chemnitz.de
END:VEVENT
END:VCALENDAR