BEGIN:VCALENDAR
VERSION:2.0
PRODID:-//bAV Fabrik GmbH - ECPv6.15.20//NONSGML v1.0//EN
CALSCALE:GREGORIAN
METHOD:PUBLISH
X-ORIGINAL-URL:https://www.bav-fabrik-gmbh.de
X-WR-CALDESC:Veranstaltungen für bAV Fabrik GmbH
REFRESH-INTERVAL;VALUE=DURATION:PT1H
X-Robots-Tag:noindex
X-PUBLISHED-TTL:PT1H
BEGIN:VTIMEZONE
TZID:Europe/Berlin
BEGIN:DAYLIGHT
TZOFFSETFROM:+0100
TZOFFSETTO:+0200
TZNAME:CEST
DTSTART:20250330T010000
END:DAYLIGHT
BEGIN:STANDARD
TZOFFSETFROM:+0200
TZOFFSETTO:+0100
TZNAME:CET
DTSTART:20251026T010000
END:STANDARD
BEGIN:DAYLIGHT
TZOFFSETFROM:+0100
TZOFFSETTO:+0200
TZNAME:CEST
DTSTART:20260329T010000
END:DAYLIGHT
BEGIN:STANDARD
TZOFFSETFROM:+0200
TZOFFSETTO:+0100
TZNAME:CET
DTSTART:20261025T010000
END:STANDARD
BEGIN:DAYLIGHT
TZOFFSETFROM:+0100
TZOFFSETTO:+0200
TZNAME:CEST
DTSTART:20270328T010000
END:DAYLIGHT
BEGIN:STANDARD
TZOFFSETFROM:+0200
TZOFFSETTO:+0100
TZNAME:CET
DTSTART:20271031T010000
END:STANDARD
END:VTIMEZONE
BEGIN:VEVENT
DTSTART;TZID=Europe/Berlin:20260519T090000
DTEND;TZID=Europe/Berlin:20260519T160000
DTSTAMP:20260421T180000
CREATED:20260105T122853Z
LAST-MODIFIED:20260105T123042Z
UID:1062-1779181200-1779206400@www.bav-fabrik-gmbh.de
SUMMARY:Die betriebliche Altersversorgung (bAV) - Modul 1
DESCRIPTION:Modul 1 | Grundlagen: Die Umsetzung der bAV und Krankenversicherung in der Unternehmenspraxis \nAnmeldefrist: 02.05.2026 \nZur Anmeldung
URL:https://www.bav-fabrik-gmbh.de/event/die-betriebliche-altersversorgung-bav-modul-1/
LOCATION:IHK-Bildungszentrum Dresden gGmbH\, Mügelner Str. 40\, Dresden\, 01237
ATTACH;FMTTYPE=image/png:https://www.bav-fabrik-gmbh.de/wp-content/uploads/2026/01/bildungszentrum-dresden-ggmbh-logo.png
ORGANIZER;CN="IHK-Bildungszentrum Dresden gGmbH":MAILTO:info@bildungszentrum-dresden.de
END:VEVENT
END:VCALENDAR