BEGIN:VCALENDAR
VERSION:2.0
PRODID:-//bAV Fabrik GmbH - ECPv6.15.20//NONSGML v1.0//EN
CALSCALE:GREGORIAN
METHOD:PUBLISH
X-WR-CALNAME:bAV Fabrik GmbH
X-ORIGINAL-URL:https://www.bav-fabrik-gmbh.de
X-WR-CALDESC:Veranstaltungen für bAV Fabrik GmbH
REFRESH-INTERVAL;VALUE=DURATION:PT1H
X-Robots-Tag:noindex
X-PUBLISHED-TTL:PT1H
BEGIN:VTIMEZONE
TZID:Europe/Berlin
BEGIN:DAYLIGHT
TZOFFSETFROM:+0100
TZOFFSETTO:+0200
TZNAME:CEST
DTSTART:20250330T010000
END:DAYLIGHT
BEGIN:STANDARD
TZOFFSETFROM:+0200
TZOFFSETTO:+0100
TZNAME:CET
DTSTART:20251026T010000
END:STANDARD
BEGIN:DAYLIGHT
TZOFFSETFROM:+0100
TZOFFSETTO:+0200
TZNAME:CEST
DTSTART:20260329T010000
END:DAYLIGHT
BEGIN:STANDARD
TZOFFSETFROM:+0200
TZOFFSETTO:+0100
TZNAME:CET
DTSTART:20261025T010000
END:STANDARD
BEGIN:DAYLIGHT
TZOFFSETFROM:+0100
TZOFFSETTO:+0200
TZNAME:CEST
DTSTART:20270328T010000
END:DAYLIGHT
BEGIN:STANDARD
TZOFFSETFROM:+0200
TZOFFSETTO:+0100
TZNAME:CET
DTSTART:20271031T010000
END:STANDARD
END:VTIMEZONE
BEGIN:VEVENT
DTSTART;TZID=Europe/Berlin:20260604T130000
DTEND;TZID=Europe/Berlin:20260604T163000
DTSTAMP:20260421T193440
CREATED:20260105T124846Z
LAST-MODIFIED:20260105T133350Z
UID:1077-1780578000-1780590600@www.bav-fabrik-gmbh.de
SUMMARY:Die Umsetzung der betrieblichen Altersversorgung und Krankenversicherung in der Unternehmenspraxis
DESCRIPTION:Weitere Informationen \nZur Anmeldung
URL:https://www.bav-fabrik-gmbh.de/event/die-umsetzung-der-betrieblichen-altersversorgung-und-krankenversicherung-in-der-unternehmenspraxis/
LOCATION:Industrie- und Handelskammer Chemnitz Regionalkammer Erzgebirge\, Geyersdorfer Str. 9a\, Annaberg-Buchholz\, 09456\, Germany
ATTACH;FMTTYPE=image/png:https://www.bav-fabrik-gmbh.de/wp-content/uploads/2026/01/ihk-chemnitz.png
ORGANIZER;CN="Industrie- und Handelskammer Chemnitz":MAILTO:chemnitz@chemnitz.ihk.de
END:VEVENT
END:VCALENDAR